BEGIN:VCALENDAR
VERSION:2.0
PRODID:-//pretix//pretix.imsucloud.de//
BEGIN:VTIMEZONE
TZID:Europe/Berlin
BEGIN:STANDARD
DTSTART:20001029T040000
RRULE:FREQ=YEARLY;BYDAY=-1SU;BYMONTH=10
TZNAME:CET
TZOFFSETFROM:+0200
TZOFFSETTO:+0100
END:STANDARD
BEGIN:DAYLIGHT
DTSTART:20000326T030000
RRULE:FREQ=YEARLY;BYDAY=-1SU;BYMONTH=3
TZNAME:CEST
TZOFFSETFROM:+0100
TZOFFSETTO:+0200
END:DAYLIGHT
END:VTIMEZONE
BEGIN:VEVENT
UID:pretix-IZA-aufstrebende-gen-0@tickets.izaachen.de
DTSTART;TZID=Europe/Berlin:20250628T100000
DTEND;TZID=Europe/Berlin:20250628T110000
DESCRIPTION:Tickets: https://tickets.izaachen.de/aufstrebende-gen/\nVeranst
 alter: IZ Aachen
DTSTAMP:20260422T154334Z
LOCATION:Seminarraum IZ Aachen
SUMMARY:Aufstrebende Generation
END:VEVENT
END:VCALENDAR
