BEGIN:VCALENDAR
VERSION:2.0
PRODID:-//pretix//pretix.imsucloud.de//
BEGIN:VTIMEZONE
TZID:Europe/Berlin
BEGIN:STANDARD
DTSTART:20001029T040000
RRULE:FREQ=YEARLY;BYDAY=-1SU;BYMONTH=10
TZNAME:CET
TZOFFSETFROM:+0200
TZOFFSETTO:+0100
END:STANDARD
BEGIN:DAYLIGHT
DTSTART:20000326T030000
RRULE:FREQ=YEARLY;BYDAY=-1SU;BYMONTH=3
TZNAME:CEST
TZOFFSETFROM:+0100
TZOFFSETTO:+0200
END:DAYLIGHT
END:VTIMEZONE
BEGIN:VEVENT
UID:pretix-IZA-dawra-0@tickets.izaachen.de
DTSTART;TZID=Europe/Berlin:20240831T130000
DTEND;TZID=Europe/Berlin:20240831T140000
DESCRIPTION:Tickets: https://tickets.izaachen.de/dawra/\nVeranstalter: IZ A
 achen
DTSTAMP:20260422T154134Z
LOCATION:Seminarraum IZ Aachen
SUMMARY:IZA Dawra | Eine etwas andere Geschichte der europäischen Moderne
END:VEVENT
END:VCALENDAR
